BEGIN:VCALENDAR
VERSION:2.0
PRODID:-//Beaumont sur Sarthe - ECPv6.15.20//NONSGML v1.0//EN
CALSCALE:GREGORIAN
METHOD:PUBLISH
X-WR-CALNAME:Beaumont sur Sarthe
X-ORIGINAL-URL:https://www.beaumont-sur-sarthe.fr
X-WR-CALDESC:Évènements pour Beaumont sur Sarthe
REFRESH-INTERVAL;VALUE=DURATION:PT1H
X-Robots-Tag:noindex
X-PUBLISHED-TTL:PT1H
BEGIN:VTIMEZONE
TZID:Europe/Paris
BEGIN:DAYLIGHT
TZOFFSETFROM:+0100
TZOFFSETTO:+0200
TZNAME:CEST
DTSTART:20210328T010000
END:DAYLIGHT
BEGIN:STANDARD
TZOFFSETFROM:+0200
TZOFFSETTO:+0100
TZNAME:CET
DTSTART:20211031T010000
END:STANDARD
BEGIN:DAYLIGHT
TZOFFSETFROM:+0100
TZOFFSETTO:+0200
TZNAME:CEST
DTSTART:20220327T010000
END:DAYLIGHT
BEGIN:STANDARD
TZOFFSETFROM:+0200
TZOFFSETTO:+0100
TZNAME:CET
DTSTART:20221030T010000
END:STANDARD
BEGIN:DAYLIGHT
TZOFFSETFROM:+0100
TZOFFSETTO:+0200
TZNAME:CEST
DTSTART:20230326T010000
END:DAYLIGHT
BEGIN:STANDARD
TZOFFSETFROM:+0200
TZOFFSETTO:+0100
TZNAME:CET
DTSTART:20231029T010000
END:STANDARD
END:VTIMEZONE
BEGIN:VEVENT
DTSTART;TZID=Europe/Paris:20220207T150000
DTEND;TZID=Europe/Paris:20220207T190000
DTSTAMP:20260421T073548
CREATED:20220121T075641Z
LAST-MODIFIED:20220226T085834Z
UID:2127-1644246000-1644260400@www.beaumont-sur-sarthe.fr
SUMMARY:Collecte de sang
DESCRIPTION:
URL:https://www.beaumont-sur-sarthe.fr/evenements/collecte-de-sang/
LOCATION:Salle Loisirs et Culture\, 2 Avenue Charles de Gaulle\, Beaumont-sur-Sarthe\, 72170\, France
CATEGORIES:Santé
END:VEVENT
END:VCALENDAR