BEGIN:VCALENDAR
VERSION:2.0
PRODID:-//Beaumont sur Sarthe - ECPv6.15.20//NONSGML v1.0//EN
CALSCALE:GREGORIAN
METHOD:PUBLISH
X-WR-CALNAME:Beaumont sur Sarthe
X-ORIGINAL-URL:https://www.beaumont-sur-sarthe.fr
X-WR-CALDESC:Évènements pour Beaumont sur Sarthe
REFRESH-INTERVAL;VALUE=DURATION:PT1H
X-Robots-Tag:noindex
X-PUBLISHED-TTL:PT1H
BEGIN:VTIMEZONE
TZID:Europe/Paris
BEGIN:DAYLIGHT
TZOFFSETFROM:+0100
TZOFFSETTO:+0200
TZNAME:CEST
DTSTART:20200329T010000
END:DAYLIGHT
BEGIN:STANDARD
TZOFFSETFROM:+0200
TZOFFSETTO:+0100
TZNAME:CET
DTSTART:20201025T010000
END:STANDARD
BEGIN:DAYLIGHT
TZOFFSETFROM:+0100
TZOFFSETTO:+0200
TZNAME:CEST
DTSTART:20210328T010000
END:DAYLIGHT
BEGIN:STANDARD
TZOFFSETFROM:+0200
TZOFFSETTO:+0100
TZNAME:CET
DTSTART:20211031T010000
END:STANDARD
BEGIN:DAYLIGHT
TZOFFSETFROM:+0100
TZOFFSETTO:+0200
TZNAME:CEST
DTSTART:20220327T010000
END:DAYLIGHT
BEGIN:STANDARD
TZOFFSETFROM:+0200
TZOFFSETTO:+0100
TZNAME:CET
DTSTART:20221030T010000
END:STANDARD
END:VTIMEZONE
BEGIN:VEVENT
DTSTART;TZID=Europe/Paris:20211218T000000
DTEND;TZID=Europe/Paris:20211218T235959
DTSTAMP:20260421T105517
CREATED:20211214T100730Z
LAST-MODIFIED:20211214T102008Z
UID:2061-1639785600-1639871999@www.beaumont-sur-sarthe.fr
SUMMARY:Journée vaccination
DESCRIPTION:Une journée spéciale de vaccination est organisée ce SAMEDI 18 DÉCEMBRE à Beaumont-sur-Sarthe\, uniquement pour la 3ème dose\, à la maison de santé.  \n\n\n\nPrise de rendez-vous obligatoire au 06 74 04 30 63 \n\n\n\nPrenez rapidement rendez vous pour être protégés avant noël !
URL:https://www.beaumont-sur-sarthe.fr/evenements/journee-vaccination/
CATEGORIES:Santé
END:VEVENT
BEGIN:VEVENT
DTSTART;TZID=Europe/Paris:20211221T100000
DTEND;TZID=Europe/Paris:20211221T170000
DTSTAMP:20260421T105517
CREATED:20211214T101623Z
LAST-MODIFIED:20211214T101640Z
UID:2063-1640080800-1640106000@www.beaumont-sur-sarthe.fr
SUMMARY:Journée dépistage COVID 19
DESCRIPTION:Un doute à l’approche de Noël\, pour vous\, vos enfants ? Avant de recevoir vos proches\, n’hésitez pas à faire un test de dépistage. Protégez-vous\, protégez les gens que vous aimez.
URL:https://www.beaumont-sur-sarthe.fr/evenements/journee-depistage-covid-19/
LOCATION:Salle Loisirs et Culture\, 2 Avenue Charles de Gaulle\, Beaumont-sur-Sarthe\, 72170\, France
CATEGORIES:Santé
END:VEVENT
END:VCALENDAR