BEGIN:VCALENDAR
VERSION:2.0
PRODID:-//Beaumont sur Sarthe - ECPv6.15.20//NONSGML v1.0//EN
CALSCALE:GREGORIAN
METHOD:PUBLISH
X-ORIGINAL-URL:https://www.beaumont-sur-sarthe.fr
X-WR-CALDESC:Évènements pour Beaumont sur Sarthe
REFRESH-INTERVAL;VALUE=DURATION:PT1H
X-Robots-Tag:noindex
X-PUBLISHED-TTL:PT1H
BEGIN:VTIMEZONE
TZID:Europe/Paris
BEGIN:DAYLIGHT
TZOFFSETFROM:+0100
TZOFFSETTO:+0200
TZNAME:CEST
DTSTART:20200329T010000
END:DAYLIGHT
BEGIN:STANDARD
TZOFFSETFROM:+0200
TZOFFSETTO:+0100
TZNAME:CET
DTSTART:20201025T010000
END:STANDARD
BEGIN:DAYLIGHT
TZOFFSETFROM:+0100
TZOFFSETTO:+0200
TZNAME:CEST
DTSTART:20210328T010000
END:DAYLIGHT
BEGIN:STANDARD
TZOFFSETFROM:+0200
TZOFFSETTO:+0100
TZNAME:CET
DTSTART:20211031T010000
END:STANDARD
BEGIN:DAYLIGHT
TZOFFSETFROM:+0100
TZOFFSETTO:+0200
TZNAME:CEST
DTSTART:20220327T010000
END:DAYLIGHT
BEGIN:STANDARD
TZOFFSETFROM:+0200
TZOFFSETTO:+0100
TZNAME:CET
DTSTART:20221030T010000
END:STANDARD
END:VTIMEZONE
BEGIN:VEVENT
DTSTART;TZID=Europe/Paris:20210308T150000
DTEND;TZID=Europe/Paris:20210308T190000
DTSTAMP:20260422T005342
CREATED:20210304T125511Z
LAST-MODIFIED:20210304T125512Z
UID:1268-1615215600-1615230000@www.beaumont-sur-sarthe.fr
SUMMARY:Collecte de sang le 8 mars
DESCRIPTION:L’Établissement Français du Sang organise lundi 8 mars 2020 une collecte de sang à la salle Loisirs et Culture de Beaumont sur Sarthe de 15h à 19h. \n\n\n\nPour les personnes qui donneraient du sang pour la première fois\, se munir d’une pièce d’identité. \n\n\n\nToutes les dispositions sanitaires sont assurées par l’Établissement Français du Sang (Masques\, crayons\, distanciation\, désinfection\, etc.)
URL:https://www.beaumont-sur-sarthe.fr/evenements/collecte-de-sang-le-8-mars/
LOCATION:Salle Loisirs et Culture\, 2 Avenue Charles de Gaulle\, Beaumont-sur-Sarthe\, 72170\, France
CATEGORIES:Santé
END:VEVENT
END:VCALENDAR